BEGIN:VCALENDAR
VERSION:2.0
PRODID:-//Association of Education Advisers - ECPv6.15.20//NONSGML v1.0//EN
CALSCALE:GREGORIAN
METHOD:PUBLISH
X-ORIGINAL-URL:https://aoea.co.uk
X-WR-CALDESC:Events for Association of Education Advisers
REFRESH-INTERVAL;VALUE=DURATION:PT1H
X-Robots-Tag:noindex
X-PUBLISHED-TTL:PT1H
BEGIN:VTIMEZONE
TZID:Europe/London
BEGIN:DAYLIGHT
TZOFFSETFROM:+0000
TZOFFSETTO:+0100
TZNAME:BST
DTSTART:20230326T010000
END:DAYLIGHT
BEGIN:STANDARD
TZOFFSETFROM:+0100
TZOFFSETTO:+0000
TZNAME:GMT
DTSTART:20231029T010000
END:STANDARD
BEGIN:DAYLIGHT
TZOFFSETFROM:+0000
TZOFFSETTO:+0100
TZNAME:BST
DTSTART:20240331T010000
END:DAYLIGHT
BEGIN:STANDARD
TZOFFSETFROM:+0100
TZOFFSETTO:+0000
TZNAME:GMT
DTSTART:20241027T010000
END:STANDARD
BEGIN:DAYLIGHT
TZOFFSETFROM:+0000
TZOFFSETTO:+0100
TZNAME:BST
DTSTART:20250330T010000
END:DAYLIGHT
BEGIN:STANDARD
TZOFFSETFROM:+0100
TZOFFSETTO:+0000
TZNAME:GMT
DTSTART:20251026T010000
END:STANDARD
END:VTIMEZONE
BEGIN:VEVENT
DTSTART;TZID=Europe/London:20240621T090000
DTEND;TZID=Europe/London:20240621T160000
DTSTAMP:20260420T014530
CREATED:20240130T161641Z
LAST-MODIFIED:20240514T083439Z
UID:4474-1718960400-1718985600@aoea.co.uk
SUMMARY:7th AoEA Connecting Educators Annual Summit
DESCRIPTION:We are delighted to announce that our seventh AoEA Connecting Educators Annual Summit is once again taking place from 9am to 4pm\, on Friday 21st June 2024\, at the Radisson Hotel York. Both AoEA members and non-members are welcome to attend. \nWe have a packed programme of keynote speeches and panels\, including the return of our ‘Sharing Great Practice’ sessions from last year. Our associates will present on the fantastic school improvement work they have done over the course of their careers. \nSpeakers: \n\nProfessor Mel Ainscow\nMichael Fullan\nOur own accredited associates and senior associates!\n\nPanel discussions chaired by: \n\nBaroness Estelle Morris\nAl Kingsley\n\nIf you are an education adviser\, an education consultant\, an education inspector\, a headteacher or principal\, a deputy headteacher\, an executive headteacher\, a MAT CEO\, a chair of governors\, a governor or anyone interested in the current educational landscape\, this is the conference for you! \n  \n\n\nPre-summit dinner – Thursday 20th June\, 7.00 pm \nAttendees enjoyed our pre-conference dinner last year. So\, what can you expect from us this time? The drinks reception and three-course dinner will be hosted at the summit venue\, the Radisson Hotel York\, providing a relaxed atmosphere for you to start networking before the summit the following day. \nOur after-dinner speaker is Mick Waters in conversation with Les Walton CBE\, Chair of AoEA. \n\n\n\n\nAnnual summit – Friday 21st June\, 9.00 am to 4.00 pm \nA remarkable conference featuring inspirational keynote speakers and our own associates and senior associates presenting their unique knowledge and skills across a range of topics. You will be networking with individuals working at the top of their game in education and joining the discussions they facilitate. If you are just interested in keeping abreast of current educational thinking\, we cannot wait to welcome you once. \nReturning to the historic city of York\, we are excited to welcome you from all over the UK and the world! This year’s summit will take place at the riverside Radisson Hotel York. This new venue allows us to facilitate our range of events\, showcase our sponsors and network in comfort. York is easily reached via a range of transport links.
URL:https://aoea.co.uk/event/aoea-summit-2024/
LOCATION:Radisson Hotel York\, North Street\, York\, Y01 6JF\, United Kingdom
CATEGORIES:Annual Summit
ATTACH;FMTTYPE=image/png:https://aoea.co.uk/wp-content/uploads/2024/01/Connecting-Educators-Annual-Summit.png
ORGANIZER;CN="Association of Education Advisers":MAILTO:info@aoea.co.uk
END:VEVENT
END:VCALENDAR