BEGIN:VCALENDAR
VERSION:2.0
PRODID:-//Association of Education Advisers - ECPv6.15.20//NONSGML v1.0//EN
CALSCALE:GREGORIAN
METHOD:PUBLISH
X-ORIGINAL-URL:https://aoea.co.uk
X-WR-CALDESC:Events for Association of Education Advisers
REFRESH-INTERVAL;VALUE=DURATION:PT1H
X-Robots-Tag:noindex
X-PUBLISHED-TTL:PT1H
BEGIN:VTIMEZONE
TZID:Europe/London
BEGIN:DAYLIGHT
TZOFFSETFROM:+0000
TZOFFSETTO:+0100
TZNAME:BST
DTSTART:20230326T010000
END:DAYLIGHT
BEGIN:STANDARD
TZOFFSETFROM:+0100
TZOFFSETTO:+0000
TZNAME:GMT
DTSTART:20231029T010000
END:STANDARD
BEGIN:DAYLIGHT
TZOFFSETFROM:+0000
TZOFFSETTO:+0100
TZNAME:BST
DTSTART:20240331T010000
END:DAYLIGHT
BEGIN:STANDARD
TZOFFSETFROM:+0100
TZOFFSETTO:+0000
TZNAME:GMT
DTSTART:20241027T010000
END:STANDARD
BEGIN:DAYLIGHT
TZOFFSETFROM:+0000
TZOFFSETTO:+0100
TZNAME:BST
DTSTART:20250330T010000
END:DAYLIGHT
BEGIN:STANDARD
TZOFFSETFROM:+0100
TZOFFSETTO:+0000
TZNAME:GMT
DTSTART:20251026T010000
END:STANDARD
END:VTIMEZONE
BEGIN:VEVENT
DTSTART;TZID=Europe/London:20240314T173000
DTEND;TZID=Europe/London:20240314T183000
DTSTAMP:20260420T112700
CREATED:20240130T142159Z
LAST-MODIFIED:20240305T141447Z
UID:4406-1710437400-1710441000@aoea.co.uk
SUMMARY:EduKIT: ‘Teach Cancer a Lesson’ a campaign to improve educational support for children diagnosed with cancer.
DESCRIPTION:Join our upcoming Education Keeping in Touch (EduKIT) meeting\, an exclusive opportunity for members to engage with guest speakers\, share insights\, and explore best practices in the education sector. \nOur next EduKIT session features a distinguished presenter\, Dame Kathy August\, who will introduce the ground-breaking campaign titled “Teach Cancer a Lesson.” This initiative aims to enhance educational support for children facing the challenges of cancer diagnosis. \nKathy has spent 45 years working in and for public education. She began her teaching career in Inner city Manchester and went on to have three secondary headships. The last headship was as the Principal in one of the first of a new type of schools introduced in the early 2000s. This was a city academy in Moss Side Manchester. Lord Andrew Adonis in his book ‘Education\, Education\, Education’ described its predecessor school as one of the most gang infested comprehensive schools in the country. Just over five years later it was judged to be outstanding. After this she worked as Deputy CEO in one of the largest MATs in the country. She has also been a Director of Education in two LEAs\, worked as a senior adviser in the DFE\, been a visiting professor at Salford Business School and is currently working as an interim CEO of a small MAT in the North of England. \nShe became a Dame in the 2014 New Years honours list. Her book ‘ Building an academy school in the Uk : With Principal” (Cambridge Scholastic’ pubs) was published in June. \nOur members will automatically receive calendar invites to each EduKIT event. If you are not a member of the AoEA\, get in touch with us at info@aoea.co.uk to find out more about EduKITs and becoming a member of the AoEA. \nClick here to book your place via Eventbrite.
URL:https://aoea.co.uk/event/edukit-education-keeping-in-touch-meeting/
LOCATION:Microsoft Teams
CATEGORIES:EduKIT
ATTACH;FMTTYPE=image/png:https://aoea.co.uk/wp-content/uploads/2024/01/mar-14-edukit.png
END:VEVENT
END:VCALENDAR