BEGIN:VCALENDAR
VERSION:2.0
PRODID:-//Association of Education Advisers - ECPv6.15.20//NONSGML v1.0//EN
CALSCALE:GREGORIAN
METHOD:PUBLISH
X-WR-CALNAME:Association of Education Advisers
X-ORIGINAL-URL:https://aoea.co.uk
X-WR-CALDESC:Events for Association of Education Advisers
REFRESH-INTERVAL;VALUE=DURATION:PT1H
X-Robots-Tag:noindex
X-PUBLISHED-TTL:PT1H
BEGIN:VTIMEZONE
TZID:Europe/London
BEGIN:DAYLIGHT
TZOFFSETFROM:+0000
TZOFFSETTO:+0100
TZNAME:BST
DTSTART:20230326T010000
END:DAYLIGHT
BEGIN:STANDARD
TZOFFSETFROM:+0100
TZOFFSETTO:+0000
TZNAME:GMT
DTSTART:20231029T010000
END:STANDARD
BEGIN:DAYLIGHT
TZOFFSETFROM:+0000
TZOFFSETTO:+0100
TZNAME:BST
DTSTART:20240331T010000
END:DAYLIGHT
BEGIN:STANDARD
TZOFFSETFROM:+0100
TZOFFSETTO:+0000
TZNAME:GMT
DTSTART:20241027T010000
END:STANDARD
BEGIN:DAYLIGHT
TZOFFSETFROM:+0000
TZOFFSETTO:+0100
TZNAME:BST
DTSTART:20250330T010000
END:DAYLIGHT
BEGIN:STANDARD
TZOFFSETFROM:+0100
TZOFFSETTO:+0000
TZNAME:GMT
DTSTART:20251026T010000
END:STANDARD
END:VTIMEZONE
BEGIN:VEVENT
DTSTART;TZID=Europe/London:20240502T173000
DTEND;TZID=Europe/London:20240502T183000
DTSTAMP:20260420T083337
CREATED:20240130T144942Z
LAST-MODIFIED:20240429T125630Z
UID:4442-1714671000-1714674600@aoea.co.uk
SUMMARY:EduKIT: Book Launch - The Role of the Education Adviser
DESCRIPTION:Join us for an exclusive EduKIT session as we celebrate the launch of AoEA’s latest publication\, “The Role of the Education Adviser.” We will be joined by Dr Tony Birch\, Series Editor and Senior Associate of AoEA\, Ian Lane\, Chair of the editorial group and Senior Associate of AoEA\, as well as many of the authors who contributed a chapter to the book. \nIn this insightful session\, the team behind this publication will explore its key themes and insights\, offering valuable perspectives on the evolving role of education advisers in today’s educational landscape. Whether you’re an experienced education professional or new to the field\, this EduKIT promises to provide invaluable knowledge and practical strategies to enhance your practice. \nFollowing the presentation\, there will be a dedicated question and answer period where attendees can engage with Tony\, Ian\, and the authors\, to ask questions and discuss topics raised during the session. This will be an excellent opportunity for participants to deepen their understanding and gain further insights into the role of education advisers. \nThis EduKIT is open to the public\, providing an excellent opportunity for educators\, policymakers\, and anyone interested in education to gain valuable insights and engage with leading industry experts. \nRegistration: \nRegistration is required for this event. Please register to receive the event link and additional details. \nAbout the Presenters: \nTony is Founding Director of Birch Education\, a bespoke educational consultancy dedicated to empowering individuals and teams to develop high quality\, sustainable approaches. He specialises in partnership\, leadership coaching and evaluation in the primary sector. Previously Tony worked for Bolton Council for more than 20 years managing an award-winning educational ICT team\, as school improvement adviser and Head of School Improvement prior to becoming Assistant Director and the lead for education and learning strategy. Tony remains fascinated by educational development: while in his role in Bolton he took a secondment to the commercial sector\, completed work as an Additional Inspector and was involved in governance of a range of organisations. Recently he was Chief External Examiner for Manchester University’s primary PGCE. Tony has a Ph.D and is an accredited Neurolinguistic Programming ‘practitioner’. He is a Senior Associate of the AoEA\, a member of the development team and is the Editor for AoEA’s book series. \nFollowing a headship of an inner-city secondary school\, Ian joined a local authority advisory service as a Senior Adviser and was later appointed Director of School Improvement for the same ‘core city’. In more recent years he has held CEO roles in both a primary and a secondary schools multi-academy trust and worked as an independent school improvement adviser. Ian works on the AoEA development team and is the chair of the editorial group for this book series. \nThe AoEA Education Keeping in Touch meetings (EduKITs) are for our members to listen to guest speakers\, share knowledge and best practice whilst also providing a forum for peer discussion & support. They occur fortnightly at 5.30pm Thursdays during term time. Reserve your place now. Look forward to seeing you there. \nClick here to book a place via Eventbrite. \n 
URL:https://aoea.co.uk/event/edukit-education-keeping-in-touch-meeting-2/
LOCATION:Microsoft Teams
CATEGORIES:EduKIT
ATTACH;FMTTYPE=image/png:https://aoea.co.uk/wp-content/uploads/2024/01/edukit-2-may-1.png
END:VEVENT
BEGIN:VEVENT
DTSTART;TZID=Europe/London:20240516T173000
DTEND;TZID=Europe/London:20240516T183000
DTSTAMP:20260420T083337
CREATED:20240130T151523Z
LAST-MODIFIED:20240508T144315Z
UID:4454-1715880600-1715884200@aoea.co.uk
SUMMARY:EduKIT: Leading School Improvement: How Does the AoEA Empower You?
DESCRIPTION:Effectiveness and impact. Embedding the AoEA standard into our school improvement system. \nThis EduKIT will explore the range of opportunities that the AoEA provides whether you are already an Associate\, beginning to consider accreditation or just want to understand the breadth and impact of our offer. You will hear from Les Walton\, Ian Lane and Ruth Mayes about the Accreditation\, the Professional Learning\, the EduKITs and the Annual Summit. We would welcome your questions and feedback to help us to shape our development moving forward. \nThe AoEA Education Keeping in Touch meetings (EduKITs) are for our members to listen to guest speakers\, share knowledge and best practice whilst also providing a forum for peer discussion & support. They occur fortnightly at 5.30pm Thursdays during term time. Reserve your place now. Look forward to seeing you there. \nOur members will automatically receive calendar invites to each EduKIT event. If you are not a member of the AoEA\, get in touch with us at info@aoea.co.uk to find out more about EduKITs and becoming a member of the AoEA. \nClick here to book a place via Eventbrite.
URL:https://aoea.co.uk/event/edukit-education-keeping-in-touch-meeting-3/
LOCATION:Microsoft Teams
CATEGORIES:EduKIT
ATTACH;FMTTYPE=image/png:https://aoea.co.uk/wp-content/uploads/2024/01/edukit-2-may-2.png
END:VEVENT
END:VCALENDAR