BEGIN:VCALENDAR
VERSION:2.0
PRODID:-//Association of Education Advisers - ECPv6.15.20//NONSGML v1.0//EN
CALSCALE:GREGORIAN
METHOD:PUBLISH
X-ORIGINAL-URL:https://aoea.co.uk
X-WR-CALDESC:Events for Association of Education Advisers
REFRESH-INTERVAL;VALUE=DURATION:PT1H
X-Robots-Tag:noindex
X-PUBLISHED-TTL:PT1H
BEGIN:VTIMEZONE
TZID:Europe/London
BEGIN:DAYLIGHT
TZOFFSETFROM:+0000
TZOFFSETTO:+0100
TZNAME:BST
DTSTART:20230326T010000
END:DAYLIGHT
BEGIN:STANDARD
TZOFFSETFROM:+0100
TZOFFSETTO:+0000
TZNAME:GMT
DTSTART:20231029T010000
END:STANDARD
BEGIN:DAYLIGHT
TZOFFSETFROM:+0000
TZOFFSETTO:+0100
TZNAME:BST
DTSTART:20240331T010000
END:DAYLIGHT
BEGIN:STANDARD
TZOFFSETFROM:+0100
TZOFFSETTO:+0000
TZNAME:GMT
DTSTART:20241027T010000
END:STANDARD
BEGIN:DAYLIGHT
TZOFFSETFROM:+0000
TZOFFSETTO:+0100
TZNAME:BST
DTSTART:20250330T010000
END:DAYLIGHT
BEGIN:STANDARD
TZOFFSETFROM:+0100
TZOFFSETTO:+0000
TZNAME:GMT
DTSTART:20251026T010000
END:STANDARD
END:VTIMEZONE
BEGIN:VEVENT
DTSTART;TZID=Europe/London:20240924T160000
DTEND;TZID=Europe/London:20240924T170000
DTSTAMP:20260420T024144
CREATED:20240807T145610Z
LAST-MODIFIED:20240918T152748Z
UID:5621-1727193600-1727197200@aoea.co.uk
SUMMARY:EduKIT: Building Blocks of Organisational Recovery
DESCRIPTION:Building blocks of organisational recovery: A new perspective on school improvement. \nMike Watchorn is the Director of Fresh Eyes Engineering which has the philosophy: Discover\, Distill\, Deliver. The art and science of problem solving in complex engineering situations. His business has a successful history of working at all phases of projects from inception and sales to installation. \nIn this EduKIT Mike will consider how his personal experiences of recovery from a serious illness\, in engineering and in business led him to examine the impact of incremental improvements. The discussion will focus on how this is transferable to education. There will be practical ideas that as advisers and headteachers we can learn from in our approach to school improvement. \nWhat to Expect: \n\nIn-depth presentations on current and relevant educational topics\nOpportunities to engage with speakers during Q&A sessions\nInsights into best practices and innovative strategies in education\nA platform to share knowledge and connect with peers\n\nRegistration: \nRegistration by clicking here. \nAbout EduKITs: \nThe AoEA Education Keeping in Touch (EduKIT) meetings are designed for our members to listen to guest speakers\, share knowledge\, and discuss best practices. These sessions provide a forum for peer discussion and support. Our members will automatically receive calendar invites to each EduKIT event. \nIf you are not a member of the AoEA\, get in touch with us at info@aoea.co.uk to learn more about EduKITs and becoming a member of the AoEA. \nWe look forward to seeing you at our upcoming EduKIT sessions!
URL:https://aoea.co.uk/event/edukit-september-2024/
LOCATION:Online
CATEGORIES:EduKIT
ATTACH;FMTTYPE=image/png:https://aoea.co.uk/wp-content/uploads/2024/08/Edukit-poster.png
ORGANIZER;CN="Association of Education Advisers":MAILTO:info@aoea.co.uk
END:VEVENT
END:VCALENDAR