BEGIN:VCALENDAR
VERSION:2.0
PRODID:-//Association of Education Advisers - ECPv6.15.20//NONSGML v1.0//EN
CALSCALE:GREGORIAN
METHOD:PUBLISH
X-ORIGINAL-URL:https://aoea.co.uk
X-WR-CALDESC:Events for Association of Education Advisers
REFRESH-INTERVAL;VALUE=DURATION:PT1H
X-Robots-Tag:noindex
X-PUBLISHED-TTL:PT1H
BEGIN:VTIMEZONE
TZID:Europe/London
BEGIN:DAYLIGHT
TZOFFSETFROM:+0000
TZOFFSETTO:+0100
TZNAME:BST
DTSTART:20240331T010000
END:DAYLIGHT
BEGIN:STANDARD
TZOFFSETFROM:+0100
TZOFFSETTO:+0000
TZNAME:GMT
DTSTART:20241027T010000
END:STANDARD
BEGIN:DAYLIGHT
TZOFFSETFROM:+0000
TZOFFSETTO:+0100
TZNAME:BST
DTSTART:20250330T010000
END:DAYLIGHT
BEGIN:STANDARD
TZOFFSETFROM:+0100
TZOFFSETTO:+0000
TZNAME:GMT
DTSTART:20251026T010000
END:STANDARD
BEGIN:DAYLIGHT
TZOFFSETFROM:+0000
TZOFFSETTO:+0100
TZNAME:BST
DTSTART:20260329T010000
END:DAYLIGHT
BEGIN:STANDARD
TZOFFSETFROM:+0100
TZOFFSETTO:+0000
TZNAME:GMT
DTSTART:20261025T010000
END:STANDARD
END:VTIMEZONE
BEGIN:VEVENT
DTSTART;TZID=Europe/London:20250211T160000
DTEND;TZID=Europe/London:20250211T170000
DTSTAMP:20260419T194111
CREATED:20241106T155231Z
LAST-MODIFIED:20250115T162752Z
UID:6073-1739289600-1739293200@aoea.co.uk
SUMMARY:EduKIT: Meeting the Needs of Children with SEND: How Do We Ensure Quality\, Consistency and Affordability?
DESCRIPTION:Jo Laidlaw is Service Manager for Wakefield Inclusion Special Educational Needs and Disabilities Support Services (WISENDSS). She has vast senior leadership experience including her work as a Specialist Leader in SEND for the National Programme for Special Educational Needs and Disabilities/Alternative Provision (AP) and as a Local Government Association Peer reviewer. Jo brings her experience as a tutor for the Leading Change in SEND/AP National Programme  which focuses on building a cohort of well-equipped SEND/AP leaders\, strengthening a consistent approach and facilitating intentional leadership across the country.   \nJo will bring to this EduKIT her experience of developing inclusive practice in SEN provision across Wakefield to open up how this can be applied across Local Authorities and MATs whatever the jurisdiction. At a time of increasing identification of children in need of EHCPs and significant pressure on budgets\, this will be a stimulating and valuable discussion. \nIf you are not a member of the AoEA\, get in touch with us at info@aoea.co.uk to learn more about EduKITs and becoming a member of the AoEA. \nWe look forward to seeing you at our upcoming EduKIT sessions!
URL:https://aoea.co.uk/event/edukit-february-2025/
LOCATION:Online
CATEGORIES:EduKIT
ATTACH;FMTTYPE=image/png:https://aoea.co.uk/wp-content/uploads/2024/11/Jo-Laidlaw.png
ORGANIZER;CN="Association of Education Advisers":MAILTO:info@aoea.co.uk
END:VEVENT
END:VCALENDAR