BEGIN:VCALENDAR
VERSION:2.0
PRODID:-//Association of Education Advisers - ECPv6.15.20//NONSGML v1.0//EN
CALSCALE:GREGORIAN
METHOD:PUBLISH
X-ORIGINAL-URL:https://aoea.co.uk
X-WR-CALDESC:Events for Association of Education Advisers
REFRESH-INTERVAL;VALUE=DURATION:PT1H
X-Robots-Tag:noindex
X-PUBLISHED-TTL:PT1H
BEGIN:VTIMEZONE
TZID:Europe/London
BEGIN:DAYLIGHT
TZOFFSETFROM:+0000
TZOFFSETTO:+0100
TZNAME:BST
DTSTART:20230326T010000
END:DAYLIGHT
BEGIN:STANDARD
TZOFFSETFROM:+0100
TZOFFSETTO:+0000
TZNAME:GMT
DTSTART:20231029T010000
END:STANDARD
BEGIN:DAYLIGHT
TZOFFSETFROM:+0000
TZOFFSETTO:+0100
TZNAME:BST
DTSTART:20240331T010000
END:DAYLIGHT
BEGIN:STANDARD
TZOFFSETFROM:+0100
TZOFFSETTO:+0000
TZNAME:GMT
DTSTART:20241027T010000
END:STANDARD
BEGIN:DAYLIGHT
TZOFFSETFROM:+0000
TZOFFSETTO:+0100
TZNAME:BST
DTSTART:20250330T010000
END:DAYLIGHT
BEGIN:STANDARD
TZOFFSETFROM:+0100
TZOFFSETTO:+0000
TZNAME:GMT
DTSTART:20251026T010000
END:STANDARD
END:VTIMEZONE
BEGIN:VEVENT
DTSTART;TZID=Europe/London:20240418T173000
DTEND;TZID=Europe/London:20240418T183000
DTSTAMP:20260420T113805
CREATED:20240130T143741Z
LAST-MODIFIED:20240408T121558Z
UID:4427-1713461400-1713465000@aoea.co.uk
SUMMARY:EduKIT: Rethinking Report Writing
DESCRIPTION:For this EduKIT we will welcome Dr Susan Mandala\, Associate Professor (Research) in Pragmatic Stylistics at the University of Sunderland. She will talk about report writing… with a difference. \nRethinking Report Writing: An EduKIT presentation by Dr Susan Mandala \nWriting is hard. Few would disagree with that. But for educationalists\, writing matters. Whether it is reports for school improvement; evaluations of school governance; strategic plans for curriculum development; or expressions of our own professional ability\, writing affects lives. When writing works\, the right things get done\, the right projects get off the ground\, the best ideas come to the fore. Increasingly\, however\, we see writing that disappoints. Data is described rather than analysed; ideas are generated but not organised; conclusions are made but do not flow from the account presented. In this EduKIT\, I explore\, from my perspective as a linguist\, writer\, and writing consultant\, why such issues occur\, why conventional writing advice often fails us\, and how two techniques from qualitative research\, thematic coding and card-sorting\, are a way forward for writing in education. \nDr Susan Mandala is Associate Professor (Research) at the University of Sunderland and a professional Writing Consultant. As a specialist in stylistics\, the study of choice in language\, she has published two books (Language in Science Fiction and Fantasy: The Question of Style and Twentieth Century Drama as Ordinary Talk: Speaking Between the Lines) and numerous scholarly essays and journal articles. She is currently interested in the way linguistic approaches apply more widely in other disciplines and professions\, and her latest article ‘Stylistics\, popular culture\, and educational research: A systematised review and case study’\, is published in English Text Construction\, 16 (2): 144-168. As a Writing Consultant\, she delivers a range of workshops on diverse aspects of decision-making in writing. In addition to numerous writing workshops with staff and students at the University of Sunderland\, she has delivered workshops for the North of Tyne Combined Authority (Writing with Impact); the Holmeside Writers in Sunderland (Linguistic Knowledge for Creative Writers); Washington Academy (Answering a Write About Question); and Biddick Academy (Analysing Language in Literature: Finding Patterns and Planning Your Answer). \nFor a more information on Susan and a complete list of her publications\, you can find her on Linkedin. www.linkedin.com/in/susan-mandala-phd-6a94b7290 \nYou may also enjoy her blog on dissertation literature reviews\, A Guide for the Exasperated. https://litreviewsfortheexasperated.blogspot.com/ \nThe AoEA Education Keeping in Touch meetings (EduKITs) are for our members to listen to guest speakers\, share knowledge and best practice whilst also providing a forum for peer discussion & support. They occur fortnightly at 5.30pm Thursdays during term time. Reserve your place now. Look forward to seeing you there.
URL:https://aoea.co.uk/event/edukit-report-writing-with-a-difference/
LOCATION:Microsoft Teams
CATEGORIES:EduKIT
ATTACH;FMTTYPE=image/png:https://aoea.co.uk/wp-content/uploads/2024/01/edukit-16-May-1.png
END:VEVENT
END:VCALENDAR