BEGIN:VCALENDAR
VERSION:2.0
PRODID:-//Association of Education Advisers - ECPv6.15.20//NONSGML v1.0//EN
CALSCALE:GREGORIAN
METHOD:PUBLISH
X-ORIGINAL-URL:https://aoea.co.uk
X-WR-CALDESC:Events for Association of Education Advisers
REFRESH-INTERVAL;VALUE=DURATION:PT1H
X-Robots-Tag:noindex
X-PUBLISHED-TTL:PT1H
BEGIN:VTIMEZONE
TZID:Europe/London
BEGIN:DAYLIGHT
TZOFFSETFROM:+0000
TZOFFSETTO:+0100
TZNAME:BST
DTSTART:20230326T010000
END:DAYLIGHT
BEGIN:STANDARD
TZOFFSETFROM:+0100
TZOFFSETTO:+0000
TZNAME:GMT
DTSTART:20231029T010000
END:STANDARD
BEGIN:DAYLIGHT
TZOFFSETFROM:+0000
TZOFFSETTO:+0100
TZNAME:BST
DTSTART:20240331T010000
END:DAYLIGHT
BEGIN:STANDARD
TZOFFSETFROM:+0100
TZOFFSETTO:+0000
TZNAME:GMT
DTSTART:20241027T010000
END:STANDARD
BEGIN:DAYLIGHT
TZOFFSETFROM:+0000
TZOFFSETTO:+0100
TZNAME:BST
DTSTART:20250330T010000
END:DAYLIGHT
BEGIN:STANDARD
TZOFFSETFROM:+0100
TZOFFSETTO:+0000
TZNAME:GMT
DTSTART:20251026T010000
END:STANDARD
END:VTIMEZONE
BEGIN:VEVENT
DTSTART;TZID=Europe/London:20241112T160000
DTEND;TZID=Europe/London:20241112T170000
DTSTAMP:20260420T011827
CREATED:20240807T150009Z
LAST-MODIFIED:20240925T144730Z
UID:5625-1731427200-1731430800@aoea.co.uk
SUMMARY:EduKIT: Learning to Lead: Who wants to be a headteacher? 
DESCRIPTION:Learning to Lead: Who wants to be a headteacher?  \nGrant Gillies is the Headteacher of South Morningside Primary School in Edinburgh which was shortlisted for the TES Primary School of the Year Awards. He has been a Principal of British International all through schools in Thailand\, Qatar and Romania. He has been a Headteacher in the UK in several settings and has worked for Education Scotland and the General Teaching Council for Scotland.   \nWhen Grant returned to the UK he was perplexed at the lack of applicants for headships. With help from colleagues\, he set about designing a hands-on programme to plug perceived gaps. In this EduKIT he will explain their work and open up the much-needed debate on what we as advisers can do to support senior leaders in taking that next step.    \nRegistration: \nRSVP below! \nAbout EduKITs: \nThe AoEA Education Keeping in Touch (EduKIT) meetings are designed for our members to listen to guest speakers\, share knowledge\, and discuss best practices. These sessions provide a forum for peer discussion and support. Our members will automatically receive calendar invites to each EduKIT event. \nIf you are not a member of the AoEA\, get in touch with us at info@aoea.co.uk to learn more about EduKITs and becoming a member of the AoEA. \nWe look forward to seeing you at our upcoming EduKIT sessions!
URL:https://aoea.co.uk/event/edukit-november-2024/
LOCATION:Online
CATEGORIES:EduKIT
ATTACH;FMTTYPE=image/png:https://aoea.co.uk/wp-content/uploads/2024/08/Edukit-poster-1-1.png
ORGANIZER;CN="Association of Education Advisers":MAILTO:info@aoea.co.uk
END:VEVENT
END:VCALENDAR