BEGIN:VCALENDAR
VERSION:2.0
PRODID:-//Association of Education Advisers - ECPv6.15.20//NONSGML v1.0//EN
CALSCALE:GREGORIAN
METHOD:PUBLISH
X-WR-CALNAME:Association of Education Advisers
X-ORIGINAL-URL:https://aoea.co.uk
X-WR-CALDESC:Events for Association of Education Advisers
REFRESH-INTERVAL;VALUE=DURATION:PT1H
X-Robots-Tag:noindex
X-PUBLISHED-TTL:PT1H
BEGIN:VTIMEZONE
TZID:Europe/London
BEGIN:DAYLIGHT
TZOFFSETFROM:+0000
TZOFFSETTO:+0100
TZNAME:BST
DTSTART:20240331T010000
END:DAYLIGHT
BEGIN:STANDARD
TZOFFSETFROM:+0100
TZOFFSETTO:+0000
TZNAME:GMT
DTSTART:20241027T010000
END:STANDARD
BEGIN:DAYLIGHT
TZOFFSETFROM:+0000
TZOFFSETTO:+0100
TZNAME:BST
DTSTART:20250330T010000
END:DAYLIGHT
BEGIN:STANDARD
TZOFFSETFROM:+0100
TZOFFSETTO:+0000
TZNAME:GMT
DTSTART:20251026T010000
END:STANDARD
BEGIN:DAYLIGHT
TZOFFSETFROM:+0000
TZOFFSETTO:+0100
TZNAME:BST
DTSTART:20260329T010000
END:DAYLIGHT
BEGIN:STANDARD
TZOFFSETFROM:+0100
TZOFFSETTO:+0000
TZNAME:GMT
DTSTART:20261025T010000
END:STANDARD
END:VTIMEZONE
BEGIN:VEVENT
DTSTART;TZID=Europe/London:20250506T160000
DTEND;TZID=Europe/London:20250506T170000
DTSTAMP:20260419T170551
CREATED:20241106T155511Z
LAST-MODIFIED:20250310T145524Z
UID:6079-1746547200-1746550800@aoea.co.uk
SUMMARY:Book Launch – Advising on Governance in Education
DESCRIPTION:We’re thrilled to announce the launch of Advising on Governance in Education\, the third book in The Education Adviser series by the Association of Education Advisers (AoEA). This event is your chance to dive into the latest insights on governance in education with the book’s authors and contributors. \nEvent Details:\nDate: Tuesday\, 6 May 2025\nTime: 4:00 PM (GMT)\nLocation: Online via Zoom RSVP Here \nWhat to Expect:\nKeynote presentation by Dr Tony Birch and Ian Lane on behalf of the AoEA Editorial Team\nPanel discussion with insights from contributors\nQ&A session with experts and authors \nAvailable for preorder\, now!\nPreorder Your Copy Here. \n  \nRSVP via our AoEA Hub here. \nAgain\, special thanks to all our outstanding contributors: \nEmma Balchin – CEO\, National Governance Association\nIan Kershaw FRSA – Education Consultant\nIan Potter – Senior Associate\, AoEA\nEmma Knights\, OBE – Former CEO\, National Governance Association\nJonathan Crossley-Holland – Project Leader\, Local Ed 2025\nLes Walton\, CBE – Chair\, AoEA\nRegina H Paul – President\, Policy Studies in Education (USA)\nMartyn Beales – School Improvement Manager\, Hampshire County Council\nFiona Collier – Governance Consultancy Team Lead\, Devon Education Services\nDr Susan Mandala – Independent Writing and Language Consultant\nAlister Moses – Primary Phase Inspector\, Hampshire County Council\nJo Pryce-Jones – Governor Services Co- Ordinator\, Hampshire County Council\nEd Dawson – Primary Phase Inspector\, Hampshire County Council\nEric Halton – Non-Executive Director\, AoEA\nFrances Donnelley – School Improvement Professional\, Education Authority Northern Ireland
URL:https://aoea.co.uk/event/edukit-may-2025/
LOCATION:Online
CATEGORIES:EduKIT
ATTACH;FMTTYPE=image/png:https://aoea.co.uk/wp-content/uploads/2024/11/X-Social-Post-25.png
ORGANIZER;CN="Association of Education Advisers":MAILTO:info@aoea.co.uk
END:VEVENT
END:VCALENDAR