BEGIN:VCALENDAR
VERSION:2.0
PRODID:-//Association of Education Advisers - ECPv6.15.20//NONSGML v1.0//EN
CALSCALE:GREGORIAN
METHOD:PUBLISH
X-ORIGINAL-URL:https://aoea.co.uk
X-WR-CALDESC:Events for Association of Education Advisers
REFRESH-INTERVAL;VALUE=DURATION:PT1H
X-Robots-Tag:noindex
X-PUBLISHED-TTL:PT1H
BEGIN:VTIMEZONE
TZID:Europe/London
BEGIN:DAYLIGHT
TZOFFSETFROM:+0000
TZOFFSETTO:+0100
TZNAME:BST
DTSTART:20250330T010000
END:DAYLIGHT
BEGIN:STANDARD
TZOFFSETFROM:+0100
TZOFFSETTO:+0000
TZNAME:GMT
DTSTART:20251026T010000
END:STANDARD
BEGIN:DAYLIGHT
TZOFFSETFROM:+0000
TZOFFSETTO:+0100
TZNAME:BST
DTSTART:20260329T010000
END:DAYLIGHT
BEGIN:STANDARD
TZOFFSETFROM:+0100
TZOFFSETTO:+0000
TZNAME:GMT
DTSTART:20261025T010000
END:STANDARD
BEGIN:DAYLIGHT
TZOFFSETFROM:+0000
TZOFFSETTO:+0100
TZNAME:BST
DTSTART:20270328T010000
END:DAYLIGHT
BEGIN:STANDARD
TZOFFSETFROM:+0100
TZOFFSETTO:+0000
TZNAME:GMT
DTSTART:20271031T010000
END:STANDARD
END:VTIMEZONE
BEGIN:VEVENT
DTSTART;TZID=Europe/London:20260224T160000
DTEND;TZID=Europe/London:20260224T170000
DTSTAMP:20260420T041329
CREATED:20251217T103107Z
LAST-MODIFIED:20251217T103107Z
UID:8291-1771948800-1771952400@aoea.co.uk
SUMMARY:Book Launch – Advising on Organisational Development in Education
DESCRIPTION:We’re thrilled to announce the launch of Advising on Organisational Development in Education\, the fourth book in The Education Adviser series by the Association of Education Advisers (AoEA). This event is your chance to dive into the latest insights on organisational development in education with the book’s authors and contributors. \n  \nEvent Details:\nDate: Tuesday\, 24 February 2026\nTime: 4:00 PM (GMT)\nLocation: Online via Zoom \nWhat to Expect:\nKeynote presentation by Dr Tony Birch and Ian Lane on behalf of the AoEA Editorial Team\nPanel discussion with insights from contributors\nQ&A session with experts and authors \nAvailable for preorder\, now! \nPreorder Your Copy Here. \nAgain\, special thanks to all our outstanding contributors: \nAl Kingsley\, MBE – CEO\, NetSupport\nCarolyn Roberts – Secretary\, Ethical Leadership Alliance\nCatherine Redgrave – School Improvement Manager\, Hampshire County Council\nDamian Eannetta – School Improvement Professional\, Education Authority Northern Ireland\nEmma Knights\, OBE – Former CEO of National Governance Association\nGrant Gillies – Headteacher\, South Morningside Primary School\nHarry Greer – Education Consultant\, Northern Ireland\nJoanne Davison – Partner\, Muckle LLP\nKevin McDermid – AoEA Development Team\nKirsty Logan-Hall – Principal\, Tullygally Primary School\nLes Walton – Chair\, AoEA\nLiz Birchinall – Director of Primary PGCE\, University of Manchester\nMatthew Humphreys – School Improvement Officer\, Rhondda Cynon Taf County Borough Council\nNarinder Gill – DfE RISE Adviser\nSir Peter Lauener – Former Chief Executive of the Education and Skills Funding Agency\nPeter Parish – AoEA Development Team\nRoisin Harbinson – Senior Education Adviser\, Education Authority Northern Ireland\nSian Smith – Primary Phase Inspector\, Hampshire County Council\nJackie Wallace – Education Consultant\, Northern Ireland\nCatherine Wegwermer\, MBE – Education Consultant\, Northern Ireland
URL:https://aoea.co.uk/event/book-launch-advising-on-organisational-development-in-education/
LOCATION:Online
CATEGORIES:EduKIT
ATTACH;FMTTYPE=image/png:https://aoea.co.uk/wp-content/uploads/2025/12/X-twitter-LH-2.png
ORGANIZER;CN="Association of Education Advisers":MAILTO:info@aoea.co.uk
END:VEVENT
BEGIN:VEVENT
DTSTART;TZID=Europe/London:20260317T160000
DTEND;TZID=Europe/London:20260317T170000
DTSTAMP:20260420T041329
CREATED:20251007T095032Z
LAST-MODIFIED:20251027T105431Z
UID:7988-1773763200-1773766800@aoea.co.uk
SUMMARY:EduKIT: Using Data and Staff Development to Improve Pupil Outcomes
DESCRIPTION:This session explores how purposeful leadership can transform school culture\, systems\, and outcomes. On appointment as principal\, Dr Michelle Rainey led the introduction of new policies and procedures for tracking and intervention to raise attainment. Central to this work was reshaping culture\, developing staff\, and ensuring accountability at all levels. Through collaborative workshops with senior leaders\, middle leaders\, governors\, and staff\, a shared vision was built and embedded into a three-year School Development Plan. A tailored in-house CPD programme supported staff to grow confidence in data use\, coaching\, and leadership skills\, while ensuring workload and wellbeing remained priorities. This strategic\, inclusive approach not only improved pupil outcomes year-on-year but also created a sustainable culture of collaboration\, capacity building\, and professional growth. \n  \nRegistration:\nRSVP via the AoEA Hub – CLICK HERE TO RSVP \nIf you are not a member of the AoEA\, get in touch with us at info@aoea.co.uk to learn more about EduKITs and becoming a member of the AoEA.
URL:https://aoea.co.uk/event/edukit-using-data-and-staff-development-to-improve-pupil-outcomes/
LOCATION:Online
CATEGORIES:EduKIT
ATTACH;FMTTYPE=image/jpeg:https://aoea.co.uk/wp-content/uploads/2025/10/17-MAR.jpg
ORGANIZER;CN="Association of Education Advisers":MAILTO:info@aoea.co.uk
END:VEVENT
BEGIN:VEVENT
DTSTART;TZID=Europe/London:20260519T160000
DTEND;TZID=Europe/London:20260519T170000
DTSTAMP:20260420T041329
CREATED:20260409T100828Z
LAST-MODIFIED:20260409T100828Z
UID:9225-1779206400-1779210000@aoea.co.uk
SUMMARY:EduKIT: System Leadership and Professional Learning: A Model of Effective Practice
DESCRIPTION:This EduKIT will describe how\, within the framework of the Association of Education Advisers’ (AoEA) Accreditation programme\, Northern Ireland is growing a high-quality system-wide advisory community across its educational partners and school leaders. \n  \nRegistration:\nRSVP via the AoEA Hub – CLICK HERE TO RSVP \nIf you are not a member of the AoEA\, get in touch with us at info@aoea.co.uk to learn more about EduKITs and becoming a member of the AoEA.
URL:https://aoea.co.uk/event/edukit-system-leadership-and-professional-learning-a-model-of-effective-practice/
LOCATION:Online
CATEGORIES:EduKIT
ATTACH;FMTTYPE=image/png:https://aoea.co.uk/wp-content/uploads/2026/04/19-MAY.png
ORGANIZER;CN="Association of Education Advisers":MAILTO:info@aoea.co.uk
END:VEVENT
BEGIN:VEVENT
DTSTART;TZID=Europe/London:20260616T160000
DTEND;TZID=Europe/London:20260616T170000
DTSTAMP:20260420T041329
CREATED:20251027T130125Z
LAST-MODIFIED:20251027T132835Z
UID:8010-1781625600-1781629200@aoea.co.uk
SUMMARY:EduKIT: Equity in Action: Transforming School Systems for Every Student
DESCRIPTION:Discover how E.O. Smith High School transformed equity from a guiding principle into everyday practice. Despite strong academic results\, disparities persisted in course access\, belonging\, and participation among marginalised students. Headteacher Lou DeLoreto shares how strategic planning\, data-informed leadership and courageous conversations dismantled barriers to access\, belonging and achievement. This session offers practical insights for senior leaders seeking to embed equity across systems\, sustain improvement through challenge\, and ensure every learner benefits from an inclusive and high-performing school culture. \n  \nRegistration:\nRSVP via the AoEA Hub – CLICK HERE TO RSVP \nIf you are not a member of the AoEA\, get in touch with us at info@aoea.co.uk to learn more about EduKITs and becoming a member of the AoEA.
URL:https://aoea.co.uk/event/edukit-equity-in-action-transforming-school-systems-for-every-student/
LOCATION:Online
CATEGORIES:EduKIT
ATTACH;FMTTYPE=image/jpeg:https://aoea.co.uk/wp-content/uploads/2025/10/16-JUNE-1.jpg
ORGANIZER;CN="Association of Education Advisers":MAILTO:info@aoea.co.uk
END:VEVENT
END:VCALENDAR